BEGIN:VCALENDAR
METHOD:PUBLISH
VERSION:2.0
PRODID:-//Apple Inc.//iCal 4.0.1//EN
BEGIN:VEVENT
UID:23784241
DTSTAMP:20260421T100453Z
DTSTART;TZID=US/Eastern:20260424T203000
DTEND;TZID=US/Eastern:20260424T230000
SUMMARY:Genze porta Genze
DESCRIPTION:<![CDATA[Cineforum: Genze porta Genze]]>
END:VEVENT

BEGIN:VEVENT
UID:7271289
DTSTAMP:20260421T100453Z
DTSTART;TZID=US/Eastern:20260430T170000
DTEND;TZID=US/Eastern:20260430T230000
SUMMARY:Textival
DESCRIPTION:<![CDATA[TEXTIVAL]]>
END:VEVENT

BEGIN:VEVENT
UID:15466193
DTSTAMP:20260421T100453Z
DTSTART;TZID=US/Eastern:20260501T170000
DTEND;TZID=US/Eastern:20260501T230000
SUMMARY:Textival
DESCRIPTION:<![CDATA[TEXTIVAL]]>
END:VEVENT

BEGIN:VEVENT
UID:11834507
DTSTAMP:20260421T100453Z
DTSTART;TZID=US/Eastern:20260502T170000
DTEND;TZID=US/Eastern:20260502T230000
SUMMARY:Textival
DESCRIPTION:<![CDATA[TEXTIVAL]]>
END:VEVENT
CALSCALE:GREGORIAN
END:VCALENDAR
 